BEGIN:VCALENDAR
VERSION:2.0
PRODID:-//Palm Beach County Chapter - Emergency Nurses Association - ECPv6.15.20//NONSGML v1.0//EN
CALSCALE:GREGORIAN
METHOD:PUBLISH
X-ORIGINAL-URL:https://palmbeachcountyena.org
X-WR-CALDESC:Events for Palm Beach County Chapter - Emergency Nurses Association
REFRESH-INTERVAL;VALUE=DURATION:PT1H
X-Robots-Tag:noindex
X-PUBLISHED-TTL:PT1H
BEGIN:VTIMEZONE
TZID:America/New_York
BEGIN:DAYLIGHT
TZOFFSETFROM:-0500
TZOFFSETTO:-0400
TZNAME:EDT
DTSTART:20250309T070000
END:DAYLIGHT
BEGIN:STANDARD
TZOFFSETFROM:-0400
TZOFFSETTO:-0500
TZNAME:EST
DTSTART:20251102T060000
END:STANDARD
BEGIN:DAYLIGHT
TZOFFSETFROM:-0500
TZOFFSETTO:-0400
TZNAME:EDT
DTSTART:20260308T070000
END:DAYLIGHT
BEGIN:STANDARD
TZOFFSETFROM:-0400
TZOFFSETTO:-0500
TZNAME:EST
DTSTART:20261101T060000
END:STANDARD
BEGIN:DAYLIGHT
TZOFFSETFROM:-0500
TZOFFSETTO:-0400
TZNAME:EDT
DTSTART:20270314T070000
END:DAYLIGHT
BEGIN:STANDARD
TZOFFSETFROM:-0400
TZOFFSETTO:-0500
TZNAME:EST
DTSTART:20271107T060000
END:STANDARD
END:VTIMEZONE
BEGIN:VEVENT
DTSTART;VALUE=DATE:20260711
DTEND;VALUE=DATE:20260713
DTSTAMP:20260423T140203
CREATED:20260219T205333Z
LAST-MODIFIED:20260304T221704Z
UID:1884-1783728000-1783900799@palmbeachcountyena.org
SUMMARY:Trauma Nursing Core Course (TNCC)
DESCRIPTION:Registration Form\nSend completed registration form to contact@palmbeachcountyena.org \nClick Here to Make Payment
URL:https://palmbeachcountyena.org/event/trauma-nursing-core-course-tncc/
LOCATION:Bethesda Hospital East\, 2815 South Seacrest Blvd\, Boynton Beach\, FL\, 33435\, United States
ATTACH;FMTTYPE=image/jpeg:https://palmbeachcountyena.org/wp-content/uploads/2025/07/Image-1.jpeg
ORGANIZER;CN="Palm Beach County ENA":MAILTO:contact@palmbeachcountyena.org
END:VEVENT
BEGIN:VEVENT
DTSTART;TZID=America/New_York:20260801T080000
DTEND;TZID=America/New_York:20260801T170000
DTSTAMP:20260423T140203
CREATED:20251108T223910Z
LAST-MODIFIED:20260221T140820Z
UID:1799-1785571200-1785603600@palmbeachcountyena.org
SUMMARY:Topics in the Tropics
DESCRIPTION:Click Here to Register\n745-815 – Registration & Breakfast \n815-845 – Breakfast Sponsor\nAlberto Espino\nMedical Device Executive\nA3 Biomedical \n0850-950\nWhen Pediatrics Goes Sideways: Preventable Pitfalls in Emergency Care\nMaricar Cabral\, RN\, CCRN\, CPEN \n1000-1100\nThe Amazing Race to Reason: Gamifying Clinical Judgment in the Emergency Department\nJoi Canton\, MSN\, RN\, NPD-BC\nClinical Learning Educator\nBaptist Health South Florida \n1105-1205\nMaking the Grade: Traumatic Liver\, Spleen and Brain Injury Grading\nAshley Mendonza DNP\, FNP-C\, APRN\, MSN\, CEN\, TCRN\, CCRN \n1205-1235 – Lunch Sponsored by 410 Medical \n1235-1335\nLifeflow Hands on Activity \n1340-1440\nHeat of the Moment\, Strength in the Aftermath: Improving Future Patient Outcomes and Staff Well‑Being Through HOT Debriefings.\nAmanda Thompson\, BSN\, RN\, EMT-P\nStaff Nurse\, HCA JFK North Hospital\nChapter President-Elect \n1445-1545\nBeyond the Chaos: Managing Neurodivergent Pediatric Patients in the ED\nPenny Blake\, MSN Ed\, RN\, CEN\nEMSC Liaison\, ED Pediatric Readiness Coordinator Clinical Education NICU & Pediatric Services\nPalm Beach Health Network \n1550-1650\nCompassion Fatigue in Emergency Nursing & How to Interrupt it\nCarol Milliken\, DNP\, APRN\, PMHNP-BC\, ADHD-CCSP\, CFTP\, CEN\, CCRN\, CLSSBB \n1650-`1700 – Closing & Evaluation \nClick Here to Register\n 
URL:https://palmbeachcountyena.org/event/emergency-topics-in-the-tropics/
LOCATION:Fair Oaks Pavillion\, 5440 Linton Blvd\, Delray Beach\, FL\, 33484\, United States
ATTACH;FMTTYPE=image/jpeg:https://palmbeachcountyena.org/wp-content/uploads/2025/11/IMG_8402.jpeg
ORGANIZER;CN="Palm Beach County ENA":MAILTO:contact@palmbeachcountyena.org
END:VEVENT
BEGIN:VEVENT
DTSTART;VALUE=DATE:20261011
DTEND;VALUE=DATE:20261018
DTSTAMP:20260423T140203
CREATED:20251108T224107Z
LAST-MODIFIED:20251108T224107Z
UID:1805-1791676800-1792281599@palmbeachcountyena.org
SUMMARY:Emergency Nurses Week
DESCRIPTION:
URL:https://palmbeachcountyena.org/event/emergency-nurses-week/
LOCATION:FL
ORGANIZER;CN="ENA":MAILTO:contact@ena.org
END:VEVENT
BEGIN:VEVENT
DTSTART;VALUE=DATE:20261014
DTEND;VALUE=DATE:20261015
DTSTAMP:20260423T140203
CREATED:20251108T224017Z
LAST-MODIFIED:20251108T224017Z
UID:1803-1791936000-1792022399@palmbeachcountyena.org
SUMMARY:Emergency Nurses Day
DESCRIPTION:
URL:https://palmbeachcountyena.org/event/emergency-nurses-day/
LOCATION:FL
ORGANIZER;CN="ENA":MAILTO:contact@ena.org
END:VEVENT
BEGIN:VEVENT
DTSTART;TZID=America/New_York:20261014T180000
DTEND;TZID=America/New_York:20261014T203000
DTSTAMP:20260423T140203
CREATED:20251108T223952Z
LAST-MODIFIED:20260121T220733Z
UID:1801-1792000800-1792009800@palmbeachcountyena.org
SUMMARY:October Chapter Meeting
DESCRIPTION:Details TBA
URL:https://palmbeachcountyena.org/event/october-chapter-meeting/
LOCATION:Trauma Hawk Aeromedical Hangar\, 4255 Southern Blvd\, West Palm Beach\, FL\, 33406\, United States
CATEGORIES:Meeting
ORGANIZER;CN="Palm Beach County ENA":MAILTO:contact@palmbeachcountyena.org
END:VEVENT
END:VCALENDAR